BEGIN:VCALENDAR
VERSION:2.0
PRODID:-//Connect Magazine - ECPv6.11.2//NONSGML v1.0//EN
CALSCALE:GREGORIAN
METHOD:PUBLISH
X-WR-CALNAME:Connect Magazine
X-ORIGINAL-URL:https://connectmagazine.org
X-WR-CALDESC:Events for Connect Magazine
REFRESH-INTERVAL;VALUE=DURATION:PT1H
X-Robots-Tag:noindex
X-PUBLISHED-TTL:PT1H
BEGIN:VTIMEZONE
TZID:Australia/Brisbane
BEGIN:STANDARD
TZOFFSETFROM:+1000
TZOFFSETTO:+1000
TZNAME:AEST
DTSTART:20230101T000000
END:STANDARD
END:VTIMEZONE
BEGIN:VEVENT
DTSTART;TZID=Australia/Brisbane:20240701T073000
DTEND;TZID=Australia/Brisbane:20240701T083000
DTSTAMP:20260422T183323
CREATED:20240626T064402Z
LAST-MODIFIED:20240626T064402Z
UID:9899-1719819000-1719822600@connectmagazine.org
SUMMARY:Tai Chi and Qigong
DESCRIPTION:Join us in the practice of this gentle art. Suitable for all abilities.
URL:https://connectmagazine.org/community-event/tai-chi-and-qigong/
LOCATION:Mossman and Daintree\, QLD\, Australia
ATTACH;FMTTYPE=image/jpeg:https://connectmagazine.org/wp-content/uploads/2024/06/dreamstime_s_227077900.jpg
ORGANIZER;CN="Jancy Leigh":MAILTO:gaylehealey1@gmail.com
END:VEVENT
BEGIN:VEVENT
DTSTART;TZID=Australia/Brisbane:20240725T090000
DTEND;TZID=Australia/Brisbane:20240728T130000
DTSTAMP:20260422T183323
CREATED:20231205T082354Z
LAST-MODIFIED:20231205T082355Z
UID:9675-1721898000-1722171600@connectmagazine.org
SUMMARY:Qigong Teacher Training - Level 1 Certified
DESCRIPTION:A 4-day teacher training intensive to gain Level 1 in the Certification in the Qigong Teacher Training Program. \nQigong Master Simon Blow imparts valuable skills and teaches Qigong cultivation methods from his books and videos\, The Art of Life and Restoring Natural Harmony. \nBecome a confident and accredited Qigong teacherin this workshop led by Master Simon Blow\, who has over 30 years of teaching experience. \nAlso suitable for those not wishing to teach but looking for deeper level of training and practice. \nCost: $750 including lunch and morning and afternoon tea.
URL:https://connectmagazine.org/community-event/qigong-teacher-training-level-1-certified/
LOCATION:Khacho Yulo Ling Buddhist Centre\, 348 Severin St\, Cairns\, QLD\, Australia
ATTACH;FMTTYPE=image/jpeg:https://connectmagazine.org/wp-content/uploads/2023/12/2024-QTT-Cairns-scaled.jpg
ORGANIZER;CN="Rob McAlpine":MAILTO:tsdmrkfnq@gmail.com
END:VEVENT
BEGIN:VEVENT
DTSTART;TZID=Australia/Brisbane:20240626T163000
DTEND;TZID=Australia/Brisbane:20240626T173000
DTSTAMP:20260422T183323
CREATED:20240626T064753Z
LAST-MODIFIED:20240626T064753Z
UID:9906-1719419400-1719423000@connectmagazine.org
SUMMARY:Tai Chi & Qigong All levels
DESCRIPTION:Join us in the practice of this gentle art. Suitable for all abilities.
URL:https://connectmagazine.org/community-event/tai-chi-qigong-all-levels/
LOCATION:Mossman and Daintree\, QLD\, Australia
ATTACH;FMTTYPE=image/jpeg:https://connectmagazine.org/wp-content/uploads/2024/06/dreamstime_s_227077900.jpg
ORGANIZER;CN="Jancy Leigh":MAILTO:gaylehealey1@gmail.com
END:VEVENT
BEGIN:VEVENT
DTSTART;TZID=Australia/Brisbane:20240626T153000
DTEND;TZID=Australia/Brisbane:20240626T163000
DTSTAMP:20260422T183323
CREATED:20240626T064603Z
LAST-MODIFIED:20240626T064603Z
UID:9904-1719415800-1719419400@connectmagazine.org
SUMMARY:New to Tai Chi & Qigong
DESCRIPTION:Join us in the practice of this gentle art. Suitable for beginners.
URL:https://connectmagazine.org/community-event/new-to-tai-chi-qigong/
LOCATION:Mossman and Daintree\, QLD\, Australia
ATTACH;FMTTYPE=image/jpeg:https://connectmagazine.org/wp-content/uploads/2024/06/dreamstime_s_227077900.jpg
ORGANIZER;CN="Jancy Leigh":MAILTO:gaylehealey1@gmail.com
END:VEVENT
BEGIN:VEVENT
DTSTART;TZID=Australia/Brisbane:20240701T073000
DTEND;TZID=Australia/Brisbane:20240701T083000
DTSTAMP:20260422T183323
CREATED:20240626T064402Z
LAST-MODIFIED:20240626T064402Z
UID:9899-1719819000-1719822600@connectmagazine.org
SUMMARY:Tai Chi and Qigong
DESCRIPTION:Join us in the practice of this gentle art. Suitable for all abilities.
URL:https://connectmagazine.org/community-event/tai-chi-and-qigong/
LOCATION:Mossman and Daintree\, QLD\, Australia
ATTACH;FMTTYPE=image/jpeg:https://connectmagazine.org/wp-content/uploads/2024/06/dreamstime_s_227077900.jpg
ORGANIZER;CN="Jancy Leigh":MAILTO:gaylehealey1@gmail.com
END:VEVENT
BEGIN:VEVENT
DTSTART;TZID=Australia/Brisbane:20240721T090000
DTEND;TZID=Australia/Brisbane:20240721T140000
DTSTAMP:20260422T183323
CREATED:20240626T070822Z
LAST-MODIFIED:20240626T070822Z
UID:9914-1721552400-1721570400@connectmagazine.org
SUMMARY:The Pier Market
DESCRIPTION:Welcome to The Pier Market – where passionate stallholders and small business owners can gather together monthly under one roof and showcase their wares to the Cairns community. Our markets are held every month of the year as being an indoor venue and fully air conditioned\, it doesn’t matter what the weather is like outside – The Pier Market will be happening!\nOur aim is to put the FUN back into market days and provide the community with a new and exciting event that will quickly prove to be the premier market event in our stunning region.\nWe have already lined up some FREE entertainment for the family\, including a jumping castle\, face painting\, and…. Roaming Wild where you can not only see a variety of animals but hold them too! And don’t forget the undercover parking is FREE for 2 hours! We are looking forward to these new markets.\nWe are currently accepting applications from local vendors offering distinctive products and services that are unique to our tropical region – all served with a genuine warm smile and a whole heap of personality.\n\nThe Pier Market is hunting for vendors offering: handmade items\, plants\, babywear\, specialised pet products\, local art\, ceramics\, photographers\, glass blown ornaments\, vintage clothing\, fashion accessories\, natural health products\, mini massages\, food stalls\, healers\, readers\, skin artists\, organic fruit and veg growers\, homemade sauces & jams\, cheeses\, chocolates… We can keep going but we think you get the hint… If you have something unique and a creative way of showing it\, we want to know about you!
URL:https://connectmagazine.org/community-event/the-pier-market/
LOCATION:The Pier Shopping Centre\, 1 Pierpoint Rd\,\, Cairns\, Qld\, 4870\, Australia
ATTACH;FMTTYPE=image/jpeg:https://connectmagazine.org/wp-content/uploads/2022/02/The-Pier-Market-Logo.jpg
ORGANIZER;CN="Renee Cashman":MAILTO:soundangel@beeuniversal.org
END:VEVENT
BEGIN:VEVENT
DTSTART;TZID=Australia/Brisbane:20240626T163000
DTEND;TZID=Australia/Brisbane:20240626T173000
DTSTAMP:20260422T183323
CREATED:20240626T064753Z
LAST-MODIFIED:20240626T064753Z
UID:9906-1719419400-1719423000@connectmagazine.org
SUMMARY:Tai Chi & Qigong All levels
DESCRIPTION:Join us in the practice of this gentle art. Suitable for all abilities.
URL:https://connectmagazine.org/community-event/tai-chi-qigong-all-levels/
LOCATION:Mossman and Daintree\, QLD\, Australia
ATTACH;FMTTYPE=image/jpeg:https://connectmagazine.org/wp-content/uploads/2024/06/dreamstime_s_227077900.jpg
ORGANIZER;CN="Jancy Leigh":MAILTO:gaylehealey1@gmail.com
END:VEVENT
BEGIN:VEVENT
DTSTART;TZID=Australia/Brisbane:20240626T153000
DTEND;TZID=Australia/Brisbane:20240626T163000
DTSTAMP:20260422T183323
CREATED:20240626T064603Z
LAST-MODIFIED:20240626T064603Z
UID:9904-1719415800-1719419400@connectmagazine.org
SUMMARY:New to Tai Chi & Qigong
DESCRIPTION:Join us in the practice of this gentle art. Suitable for beginners.
URL:https://connectmagazine.org/community-event/new-to-tai-chi-qigong/
LOCATION:Mossman and Daintree\, QLD\, Australia
ATTACH;FMTTYPE=image/jpeg:https://connectmagazine.org/wp-content/uploads/2024/06/dreamstime_s_227077900.jpg
ORGANIZER;CN="Jancy Leigh":MAILTO:gaylehealey1@gmail.com
END:VEVENT
BEGIN:VEVENT
DTSTART;TZID=Australia/Brisbane:20240701T073000
DTEND;TZID=Australia/Brisbane:20240701T083000
DTSTAMP:20260422T183323
CREATED:20240626T064402Z
LAST-MODIFIED:20240626T064402Z
UID:9899-1719819000-1719822600@connectmagazine.org
SUMMARY:Tai Chi and Qigong
DESCRIPTION:Join us in the practice of this gentle art. Suitable for all abilities.
URL:https://connectmagazine.org/community-event/tai-chi-and-qigong/
LOCATION:Mossman and Daintree\, QLD\, Australia
ATTACH;FMTTYPE=image/jpeg:https://connectmagazine.org/wp-content/uploads/2024/06/dreamstime_s_227077900.jpg
ORGANIZER;CN="Jancy Leigh":MAILTO:gaylehealey1@gmail.com
END:VEVENT
BEGIN:VEVENT
DTSTART;TZID=Australia/Brisbane:20240714T130000
DTEND;TZID=Australia/Brisbane:20240714T143000
DTSTAMP:20260422T183323
CREATED:20240626T070036Z
LAST-MODIFIED:20240626T070036Z
UID:9912-1720962000-1720967400@connectmagazine.org
SUMMARY:Flute Circle - Mareeba
DESCRIPTION:All flute lovers are welcome to join me in celebrating and learning the magic\, joy\, peace and harmony of the Native American style flute. \nThis circle will be tailored towards beginners and together we will learn\, practice and grow in our understanding and ability to play the flute. To open\, heal and feel and express our heart songs. Focused on the Native American Flute but all types welcomed. We will have a fun lesson plan each month and learn a new song together. Materials provided. \nI have a number of Native American flutes here that can be borrowed if you are yet to find your own flute but wish to begin.
URL:https://connectmagazine.org/community-event/flute-circle-mareeba/
LOCATION:FNQ Oriental Healing Centre\, 62\, Mareeba\, QLD\, 4880\, Australia
ATTACH;FMTTYPE=image/jpeg:https://connectmagazine.org/wp-content/uploads/2020/11/flute-circle-cairns.jpg
ORGANIZER;CN="Renee Cashman":MAILTO:soundangel@beeuniversal.org
END:VEVENT
BEGIN:VEVENT
DTSTART;TZID=Australia/Brisbane:20240713T100000
DTEND;TZID=Australia/Brisbane:20240713T170000
DTSTAMP:20260422T183323
CREATED:20240626T065227Z
LAST-MODIFIED:20240626T065305Z
UID:9908-1720864800-1720890000@connectmagazine.org
SUMMARY:I Ching Drumming - Cairns
DESCRIPTION:Discover the philosophy of the ancient divination tool known as the I Ching or the Book of Changes. It is said to encapsulate the language of the universe and help us to understand our relationship to the universe. \nIn this workshop we:\n*touch on the history of the I Ching. *explore the polarities of yin and yang *basic understanding of the Trigrams\n*guided meditations to connect with the essence of the Trigrams\n*translating trigrams into rhythms\n*lots of drumming on Native American Medicine Drums\n*beginning to explore the 64 hexagrams \nFacilitated by Renee Cashman and Debbie Savage \nBYO Drums however we do have a number that can be borrowed for the day if required. These must be booked. \nPlease bring a plate to share for lunch.
URL:https://connectmagazine.org/community-event/i-ching-drumming/
LOCATION:Khacho Yulo Ling Buddhist Centre\, 348 Severin St\, Cairns\, QLD\, Australia
ATTACH;FMTTYPE=image/jpeg:https://connectmagazine.org/wp-content/uploads/2024/06/Cairns-I-Ching-Drumming-Ticket.jpeg
ORGANIZER;CN="Renee Cashman":MAILTO:soundangel@beeuniversal.org
END:VEVENT
BEGIN:VEVENT
DTSTART;TZID=Australia/Brisbane:20240711T090000
DTEND;TZID=Australia/Brisbane:20240714T170000
DTSTAMP:20260422T183323
CREATED:20231205T081309Z
LAST-MODIFIED:20231206T224707Z
UID:9671-1720688400-1720976400@connectmagazine.org
SUMMARY:Tuning Fork Practitioner Training
DESCRIPTION:Have you ever wanted to learn how to heal with frequency of vibrations? Now is your chance! Become a certified Tuning Fork Practitioner with Amanda Mackay. IICT certified practitioner training. \nHeld in Cairns venue TBA \nCOST: $2500 Payment plans available – 3 months 5 months and 9 months
URL:https://connectmagazine.org/community-event/tuning-fork-practitioner-training/
LOCATION:QLD
ATTACH;FMTTYPE=image/jpeg:https://connectmagazine.org/wp-content/uploads/2023/12/amanda-tuning.jpg
ORGANIZER;CN="Amanda Mackay":MAILTO:hello@biofieldbeing.com.au
END:VEVENT
BEGIN:VEVENT
DTSTART;TZID=Australia/Brisbane:20240626T163000
DTEND;TZID=Australia/Brisbane:20240626T173000
DTSTAMP:20260422T183323
CREATED:20240626T064753Z
LAST-MODIFIED:20240626T064753Z
UID:9906-1719419400-1719423000@connectmagazine.org
SUMMARY:Tai Chi & Qigong All levels
DESCRIPTION:Join us in the practice of this gentle art. Suitable for all abilities.
URL:https://connectmagazine.org/community-event/tai-chi-qigong-all-levels/
LOCATION:Mossman and Daintree\, QLD\, Australia
ATTACH;FMTTYPE=image/jpeg:https://connectmagazine.org/wp-content/uploads/2024/06/dreamstime_s_227077900.jpg
ORGANIZER;CN="Jancy Leigh":MAILTO:gaylehealey1@gmail.com
END:VEVENT
BEGIN:VEVENT
DTSTART;TZID=Australia/Brisbane:20240626T153000
DTEND;TZID=Australia/Brisbane:20240626T163000
DTSTAMP:20260422T183323
CREATED:20240626T064603Z
LAST-MODIFIED:20240626T064603Z
UID:9904-1719415800-1719419400@connectmagazine.org
SUMMARY:New to Tai Chi & Qigong
DESCRIPTION:Join us in the practice of this gentle art. Suitable for beginners.
URL:https://connectmagazine.org/community-event/new-to-tai-chi-qigong/
LOCATION:Mossman and Daintree\, QLD\, Australia
ATTACH;FMTTYPE=image/jpeg:https://connectmagazine.org/wp-content/uploads/2024/06/dreamstime_s_227077900.jpg
ORGANIZER;CN="Jancy Leigh":MAILTO:gaylehealey1@gmail.com
END:VEVENT
BEGIN:VEVENT
DTSTART;TZID=Australia/Brisbane:20240708T103000
DTEND;TZID=Australia/Brisbane:20240708T113000
DTSTAMP:20260422T183323
CREATED:20240626T070555Z
LAST-MODIFIED:20240626T070555Z
UID:9913-1720434600-1720438200@connectmagazine.org
SUMMARY:Chakra Crystal Sound Journey
DESCRIPTION:Relax the body\, clear the mind\, calm the emotions with a guided Sound Meditation combining the power of visualisation and frequency. \nRenee takes you a journey through the 7 major chakras to restore harmony featuring the Crystal Singing Bowls and Crystal Lyre. \nTune Up and Tune In \nBring a yoga mat to lay on. \nEach session $20. \n  \n 
URL:https://connectmagazine.org/community-event/chakra-crystal-sound-journey/
LOCATION:Khacho Yulo Ling Buddhist Centre\, 348 Severin St\, Cairns\, QLD\, Australia
ATTACH;FMTTYPE=image/jpeg:https://connectmagazine.org/wp-content/uploads/2020/11/chakrajourney_rainbow-scaled.jpg
ORGANIZER;CN="Renee Cashman":MAILTO:soundangel@beeuniversal.org
END:VEVENT
BEGIN:VEVENT
DTSTART;TZID=Australia/Brisbane:20240701T073000
DTEND;TZID=Australia/Brisbane:20240701T083000
DTSTAMP:20260422T183323
CREATED:20240626T064402Z
LAST-MODIFIED:20240626T064402Z
UID:9899-1719819000-1719822600@connectmagazine.org
SUMMARY:Tai Chi and Qigong
DESCRIPTION:Join us in the practice of this gentle art. Suitable for all abilities.
URL:https://connectmagazine.org/community-event/tai-chi-and-qigong/
LOCATION:Mossman and Daintree\, QLD\, Australia
ATTACH;FMTTYPE=image/jpeg:https://connectmagazine.org/wp-content/uploads/2024/06/dreamstime_s_227077900.jpg
ORGANIZER;CN="Jancy Leigh":MAILTO:gaylehealey1@gmail.com
END:VEVENT
BEGIN:VEVENT
DTSTART;TZID=Australia/Brisbane:20240626T163000
DTEND;TZID=Australia/Brisbane:20240626T173000
DTSTAMP:20260422T183323
CREATED:20240626T064753Z
LAST-MODIFIED:20240626T064753Z
UID:9906-1719419400-1719423000@connectmagazine.org
SUMMARY:Tai Chi & Qigong All levels
DESCRIPTION:Join us in the practice of this gentle art. Suitable for all abilities.
URL:https://connectmagazine.org/community-event/tai-chi-qigong-all-levels/
LOCATION:Mossman and Daintree\, QLD\, Australia
ATTACH;FMTTYPE=image/jpeg:https://connectmagazine.org/wp-content/uploads/2024/06/dreamstime_s_227077900.jpg
ORGANIZER;CN="Jancy Leigh":MAILTO:gaylehealey1@gmail.com
END:VEVENT
BEGIN:VEVENT
DTSTART;TZID=Australia/Brisbane:20240626T153000
DTEND;TZID=Australia/Brisbane:20240626T163000
DTSTAMP:20260422T183323
CREATED:20240626T064603Z
LAST-MODIFIED:20240626T064603Z
UID:9904-1719415800-1719419400@connectmagazine.org
SUMMARY:New to Tai Chi & Qigong
DESCRIPTION:Join us in the practice of this gentle art. Suitable for beginners.
URL:https://connectmagazine.org/community-event/new-to-tai-chi-qigong/
LOCATION:Mossman and Daintree\, QLD\, Australia
ATTACH;FMTTYPE=image/jpeg:https://connectmagazine.org/wp-content/uploads/2024/06/dreamstime_s_227077900.jpg
ORGANIZER;CN="Jancy Leigh":MAILTO:gaylehealey1@gmail.com
END:VEVENT
BEGIN:VEVENT
DTSTART;TZID=Australia/Brisbane:20240701T073000
DTEND;TZID=Australia/Brisbane:20240701T083000
DTSTAMP:20260422T183323
CREATED:20240626T064402Z
LAST-MODIFIED:20240626T064402Z
UID:9899-1719819000-1719822600@connectmagazine.org
SUMMARY:Tai Chi and Qigong
DESCRIPTION:Join us in the practice of this gentle art. Suitable for all abilities.
URL:https://connectmagazine.org/community-event/tai-chi-and-qigong/
LOCATION:Mossman and Daintree\, QLD\, Australia
ATTACH;FMTTYPE=image/jpeg:https://connectmagazine.org/wp-content/uploads/2024/06/dreamstime_s_227077900.jpg
ORGANIZER;CN="Jancy Leigh":MAILTO:gaylehealey1@gmail.com
END:VEVENT
BEGIN:VEVENT
DTSTART;TZID=Australia/Brisbane:20240626T163000
DTEND;TZID=Australia/Brisbane:20240626T173000
DTSTAMP:20260422T183323
CREATED:20240626T064753Z
LAST-MODIFIED:20240626T064753Z
UID:9906-1719419400-1719423000@connectmagazine.org
SUMMARY:Tai Chi & Qigong All levels
DESCRIPTION:Join us in the practice of this gentle art. Suitable for all abilities.
URL:https://connectmagazine.org/community-event/tai-chi-qigong-all-levels/
LOCATION:Mossman and Daintree\, QLD\, Australia
ATTACH;FMTTYPE=image/jpeg:https://connectmagazine.org/wp-content/uploads/2024/06/dreamstime_s_227077900.jpg
ORGANIZER;CN="Jancy Leigh":MAILTO:gaylehealey1@gmail.com
END:VEVENT
BEGIN:VEVENT
DTSTART;TZID=Australia/Brisbane:20240626T153000
DTEND;TZID=Australia/Brisbane:20240626T163000
DTSTAMP:20260422T183323
CREATED:20240626T064603Z
LAST-MODIFIED:20240626T064603Z
UID:9904-1719415800-1719419400@connectmagazine.org
SUMMARY:New to Tai Chi & Qigong
DESCRIPTION:Join us in the practice of this gentle art. Suitable for beginners.
URL:https://connectmagazine.org/community-event/new-to-tai-chi-qigong/
LOCATION:Mossman and Daintree\, QLD\, Australia
ATTACH;FMTTYPE=image/jpeg:https://connectmagazine.org/wp-content/uploads/2024/06/dreamstime_s_227077900.jpg
ORGANIZER;CN="Jancy Leigh":MAILTO:gaylehealey1@gmail.com
END:VEVENT
BEGIN:VEVENT
DTSTART;TZID=Australia/Brisbane:20240608T090000
DTEND;TZID=Australia/Brisbane:20240609T170000
DTSTAMP:20260422T183323
CREATED:20231205T075422Z
LAST-MODIFIED:20231205T075423Z
UID:9665-1717837200-1717952400@connectmagazine.org
SUMMARY:EMMETT Technique -  Modules 1 & 2 (2 Days - Beginners Course)
DESCRIPTION:The EMMETT Technique is a gentle muscle release therapy that complements other therapies/ modalities or be a stand alone treatment. \nIn the Module 1 & 2 course you will learn where this therapy came from and its principles on how to apply the Technique. Along with this\, you will learn how to release the following muscles: \n– Quatrutus Lomborum (Lower Back Support) \n– Iliacus (Deep Hip Muscle) \n– Psoas (Deep Core Muscle) \n– Gastrocnemius (Leg Muscle) \n– Trapezius (Upper Body muscle to support neck and shoulders) \n– Rhomboid (Upper Body muscle to support neck and shoulders) \n– Sternocleidomastoid (Assists neck rotation) \n– Levator Scapula (assists neck rotation) \n– And Much\, Much more!! \nThis is a hands-on\, practical course and does not require previous anatomical training or knowledge. \nCOST: $500
URL:https://connectmagazine.org/community-event/emmett-technique-modules-1-2-2-days-beginners-course/
LOCATION:Cairns Sheridan Hotel\, 295 Sheridan St\, Cairns\, Australia
ATTACH;FMTTYPE=image/jpeg:https://connectmagazine.org/wp-content/uploads/2023/12/Gemstone-85-x-120-px-e1701762483536.jpg
ORGANIZER;CN="Gemma Dustin":MAILTO:info@gemstonetherapies.com.au
END:VEVENT
BEGIN:VEVENT
DTSTART;TZID=Australia/Brisbane:20240517T120000
DTEND;TZID=Australia/Brisbane:20240519T140000
DTSTAMP:20260422T183323
CREATED:20231207T015143Z
LAST-MODIFIED:20231207T015145Z
UID:9722-1715947200-1716127200@connectmagazine.org
SUMMARY:Ayurveda & Yoga Retreats
DESCRIPTION:Totally secluded with walks in nature and swimming holes to explore\, a fantastic opportunity to indulge in a long weekend of rest\, relaxation\, yoga and Ayurveda. Limited to 14 people.
URL:https://connectmagazine.org/community-event/ayurveda-yoga-retreats/
LOCATION:Butterfly Valley\, Cardwell\, QLD\, 4880\, Australia
ATTACH;FMTTYPE=image/jpeg:https://connectmagazine.org/wp-content/uploads/2023/12/Butterfly-valley-waterfall.jpeg
END:VEVENT
BEGIN:VEVENT
DTSTART;TZID=Australia/Brisbane:20230309T180000
DTEND;TZID=Australia/Brisbane:20230309T190000
DTSTAMP:20260422T183323
CREATED:20230308T100042Z
LAST-MODIFIED:20230308T100042Z
UID:9356-1678384800-1678388400@connectmagazine.org
SUMMARY:Sound Healing Therapy
DESCRIPTION:Sound Healing Therapy offers a safe space with a qualified practitioner to engage with visualisation\, set intentions\, restore and relax guided by Leilana through her dynamic use of voice and instruments from around the world in these varied sessions. Invitation to connect over a cup of herbal tea offered for 15minutes after the session\, BYO mug :)
URL:https://connectmagazine.org/community-event/sound-healing-therapy-2/
LOCATION:Thrive Yoga Tribe\, Level 1\, 55 Main St\, Atherton
ATTACH;FMTTYPE=image/jpeg:https://connectmagazine.org/wp-content/uploads/2023/03/LEILANAGRACE-08-04-2020-DAINTREE-CHANELBARANPHOTO13.jpg
ORGANIZER;CN="Leilana Grace":MAILTO:momentsintouch@gmail.com
END:VEVENT
BEGIN:VEVENT
DTSTART;TZID=Australia/Brisbane:20240505T090000
DTEND;TZID=Australia/Brisbane:20240505T160000
DTSTAMP:20260422T183323
CREATED:20231206T233428Z
LAST-MODIFIED:20231206T233428Z
UID:9695-1714899600-1714924800@connectmagazine.org
SUMMARY:Health\, Happiness & Harmony EXPO
DESCRIPTION:A day dedicated to sharing alternative and holistic approaches to health and well-being. \nA variety of exhibits that will be sure to nourish and nurture you with our Body\, Mind and Spirit Market. \nThis year we open up with a diverse offering of free classes and demonstrations from various disciplines and instructors all day! \nAt The Pier Shopping Centre\, Pierpoint Rd\, Cairns   9am – 4pm \nBrought to you by Connect Magazine North Qld. \nFor more information and applications email: \nExhibitors – Anne at: markets@connectmagazine.org \nProgram – Renee at: info@connectmagazine.org \nThanks to our sponsors: The Pier Cairns  \n  \n 
URL:https://connectmagazine.org/community-event/health-happiness-harmony-expo-3/
LOCATION:The Pier Shopping Centre\, 1 Pierpoint Rd\,\, Cairns\, Qld\, 4870\, Australia
ATTACH;FMTTYPE=image/jpeg:https://connectmagazine.org/wp-content/uploads/2023/12/HHH-full-page-ad-EXPO-24_WEB.jpg
ORGANIZER;CN="Renee Cashman":MAILTO:soundangel@beeuniversal.org
END:VEVENT
BEGIN:VEVENT
DTSTART;TZID=Australia/Brisbane:20230309T180000
DTEND;TZID=Australia/Brisbane:20230309T190000
DTSTAMP:20260422T183323
CREATED:20230308T100042Z
LAST-MODIFIED:20230308T100042Z
UID:9356-1678384800-1678388400@connectmagazine.org
SUMMARY:Sound Healing Therapy
DESCRIPTION:Sound Healing Therapy offers a safe space with a qualified practitioner to engage with visualisation\, set intentions\, restore and relax guided by Leilana through her dynamic use of voice and instruments from around the world in these varied sessions. Invitation to connect over a cup of herbal tea offered for 15minutes after the session\, BYO mug :)
URL:https://connectmagazine.org/community-event/sound-healing-therapy-2/
LOCATION:Thrive Yoga Tribe\, Level 1\, 55 Main St\, Atherton
ATTACH;FMTTYPE=image/jpeg:https://connectmagazine.org/wp-content/uploads/2023/03/LEILANAGRACE-08-04-2020-DAINTREE-CHANELBARANPHOTO13.jpg
ORGANIZER;CN="Leilana Grace":MAILTO:momentsintouch@gmail.com
END:VEVENT
BEGIN:VEVENT
DTSTART;TZID=Australia/Brisbane:20230309T180000
DTEND;TZID=Australia/Brisbane:20230309T190000
DTSTAMP:20260422T183323
CREATED:20230308T100042Z
LAST-MODIFIED:20230308T100042Z
UID:9356-1678384800-1678388400@connectmagazine.org
SUMMARY:Sound Healing Therapy
DESCRIPTION:Sound Healing Therapy offers a safe space with a qualified practitioner to engage with visualisation\, set intentions\, restore and relax guided by Leilana through her dynamic use of voice and instruments from around the world in these varied sessions. Invitation to connect over a cup of herbal tea offered for 15minutes after the session\, BYO mug :)
URL:https://connectmagazine.org/community-event/sound-healing-therapy-2/
LOCATION:Thrive Yoga Tribe\, Level 1\, 55 Main St\, Atherton
ATTACH;FMTTYPE=image/jpeg:https://connectmagazine.org/wp-content/uploads/2023/03/LEILANAGRACE-08-04-2020-DAINTREE-CHANELBARANPHOTO13.jpg
ORGANIZER;CN="Leilana Grace":MAILTO:momentsintouch@gmail.com
END:VEVENT
BEGIN:VEVENT
DTSTART;TZID=Australia/Brisbane:20230309T180000
DTEND;TZID=Australia/Brisbane:20230309T190000
DTSTAMP:20260422T183323
CREATED:20230308T100042Z
LAST-MODIFIED:20230308T100042Z
UID:9356-1678384800-1678388400@connectmagazine.org
SUMMARY:Sound Healing Therapy
DESCRIPTION:Sound Healing Therapy offers a safe space with a qualified practitioner to engage with visualisation\, set intentions\, restore and relax guided by Leilana through her dynamic use of voice and instruments from around the world in these varied sessions. Invitation to connect over a cup of herbal tea offered for 15minutes after the session\, BYO mug :)
URL:https://connectmagazine.org/community-event/sound-healing-therapy-2/
LOCATION:Thrive Yoga Tribe\, Level 1\, 55 Main St\, Atherton
ATTACH;FMTTYPE=image/jpeg:https://connectmagazine.org/wp-content/uploads/2023/03/LEILANAGRACE-08-04-2020-DAINTREE-CHANELBARANPHOTO13.jpg
ORGANIZER;CN="Leilana Grace":MAILTO:momentsintouch@gmail.com
END:VEVENT
BEGIN:VEVENT
DTSTART;TZID=Australia/Brisbane:20230309T180000
DTEND;TZID=Australia/Brisbane:20230309T190000
DTSTAMP:20260422T183323
CREATED:20230308T100042Z
LAST-MODIFIED:20230308T100042Z
UID:9356-1678384800-1678388400@connectmagazine.org
SUMMARY:Sound Healing Therapy
DESCRIPTION:Sound Healing Therapy offers a safe space with a qualified practitioner to engage with visualisation\, set intentions\, restore and relax guided by Leilana through her dynamic use of voice and instruments from around the world in these varied sessions. Invitation to connect over a cup of herbal tea offered for 15minutes after the session\, BYO mug :)
URL:https://connectmagazine.org/community-event/sound-healing-therapy-2/
LOCATION:Thrive Yoga Tribe\, Level 1\, 55 Main St\, Atherton
ATTACH;FMTTYPE=image/jpeg:https://connectmagazine.org/wp-content/uploads/2023/03/LEILANAGRACE-08-04-2020-DAINTREE-CHANELBARANPHOTO13.jpg
ORGANIZER;CN="Leilana Grace":MAILTO:momentsintouch@gmail.com
END:VEVENT
BEGIN:VEVENT
DTSTART;TZID=Australia/Brisbane:20230219T090000
DTEND;TZID=Australia/Brisbane:20230219T140000
DTSTAMP:20260422T183323
CREATED:20230303T192205Z
LAST-MODIFIED:20230607T101919Z
UID:9327-1676797200-1676815200@connectmagazine.org
SUMMARY:The Pier Market
DESCRIPTION:Welcome to The Pier Market – where passionate stallholders and small business owners can gather together monthly under one roof and showcase their wares to the Cairns community. Our markets are held every month of the year as being an indoor venue and fully air conditioned\, it doesn’t matter what the weather is like outside – The Pier Market will be happening!\nOur aim is to put the FUN back into market days and provide the community with a new and exciting event that will quickly prove to be the premier market event in our stunning region.\nWe have already lined up some FREE entertainment for the family\, including a jumping castle\, face painting\, and…. Roaming Wild where you can not only see a variety of animals but hold them too! And don’t forget the undercover parking is FREE for 2 hours! We are looking forward to these new markets.\nWe are currently accepting applications from local vendors offering distinctive products and services that are unique to our tropical region – all served with a genuine warm smile and a whole heap of personality.\n\nThe Pier Market is hunting for vendors offering: handmade items\, plants\, babywear\, specialised pet products\, local art\, ceramics\, photographers\, glass blown ornaments\, vintage clothing\, fashion accessories\, natural health products\, mini massages\, food stalls\, healers\, readers\, skin artists\, organic fruit and veg growers\, homemade sauces & jams\, cheeses\, chocolates… We can keep going but we think you get the hint… If you have something unique and a creative way of showing it\, we want to know about you!
URL:https://connectmagazine.org/community-event/the-pier-market-2/
LOCATION:The Pier Shopping Centre\, 1 Pierpoint Rd\,\, Cairns\, Qld\, 4870\, Australia
ATTACH;FMTTYPE=image/jpeg:https://connectmagazine.org/wp-content/uploads/2022/02/The-Pier-Market-Logo.jpg
ORGANIZER;CN="Renee Cashman":MAILTO:soundangel@beeuniversal.org
END:VEVENT
END:VCALENDAR