BEGIN:VCALENDAR
VERSION:2.0
PRODID:-//Connect Magazine - ECPv6.11.2//NONSGML v1.0//EN
CALSCALE:GREGORIAN
METHOD:PUBLISH
X-ORIGINAL-URL:https://connectmagazine.org
X-WR-CALDESC:Events for Connect Magazine
REFRESH-INTERVAL;VALUE=DURATION:PT1H
X-Robots-Tag:noindex
X-PUBLISHED-TTL:PT1H
BEGIN:VTIMEZONE
TZID:Australia/Brisbane
BEGIN:STANDARD
TZOFFSETFROM:+1000
TZOFFSETTO:+1000
TZNAME:AEST
DTSTART:20230101T000000
END:STANDARD
END:VTIMEZONE
BEGIN:VEVENT
DTSTART;TZID=Australia/Brisbane:20230213T103000
DTEND;TZID=Australia/Brisbane:20230213T113000
DTSTAMP:20260424T222214
CREATED:20201109T084648Z
LAST-MODIFIED:20230607T101519Z
UID:7825-1676284200-1676287800@connectmagazine.org
SUMMARY:Chakra Sound Journey
DESCRIPTION:Relax the body\, clear the mind\, calm the emotions with a Sound Meditation. \nThis is a guided meditation taking a journey through the 7 major chakras to harmonise featuring the Crystal Singing Bowls and Crystal Lyre. \nTune Up and Tune In \nBring a yoga mat to lay on. \nCasual $15 / 5 Class Pass $60 \nPh: 0428 846 799 \n 
URL:https://connectmagazine.org/community-event/chakra-sound-journey/
LOCATION:Khacho Yulo Ling Buddhist Centre\, 348 Severin St\, Cairns\, QLD\, Australia
ATTACH;FMTTYPE=image/jpeg:https://connectmagazine.org/wp-content/uploads/2020/11/chakrajourney_rainbow-scaled.jpg
ORGANIZER;CN="Renee Cashman":MAILTO:soundangel@beeuniversal.org
END:VEVENT
BEGIN:VEVENT
DTSTART;TZID=Australia/Brisbane:20230224T163000
DTEND;TZID=Australia/Brisbane:20230224T183000
DTSTAMP:20260424T222214
CREATED:20230303T191654Z
LAST-MODIFIED:20230607T092714Z
UID:9325-1677256200-1677263400@connectmagazine.org
SUMMARY:Falun Dafa (Falun Gong)
DESCRIPTION:Standing Exercises and Sitting Meditation
URL:https://connectmagazine.org/community-event/falun-dafa-falun-gong-2/
LOCATION:North of Muddy’s Playground\, Esplanade\, Cairns\, QLD\, Australia
ATTACH;FMTTYPE=image/jpeg:https://connectmagazine.org/wp-content/uploads/2023/03/Jessica_horiz.jpg
END:VEVENT
BEGIN:VEVENT
DTSTART;TZID=Australia/Brisbane:20230308T090000
DTEND;TZID=Australia/Brisbane:20230308T100000
DTSTAMP:20260424T222214
CREATED:20230303T083812Z
LAST-MODIFIED:20230303T190133Z
UID:9318-1678266000-1678269600@connectmagazine.org
SUMMARY:Tai Chi Mareeba
DESCRIPTION:Tai Chi for Arthritis and Falls Prevention \nRenee is a Level 1 Instructor under Dr. Paul Lam \nRenee is a Level 3 Qigong Instructor under Master Simon Blow
URL:https://connectmagazine.org/community-event/tai-chi-mareeba-2022-09-28-2-2-2/
LOCATION:The Spanish Club\, 58 Chewko Rd\, Mareeba\, QLD\, 4880\, Australia
ATTACH;FMTTYPE=image/jpeg:https://connectmagazine.org/wp-content/uploads/2022/02/IMG_0757.jpg
ORGANIZER;CN="Renee Cashman":MAILTO:soundangel@beeuniversal.org
END:VEVENT
BEGIN:VEVENT
DTSTART;TZID=Australia/Brisbane:20230310T140000
DTEND;TZID=Australia/Brisbane:20230310T140000
DTSTAMP:20260424T222214
CREATED:20230303T190517Z
LAST-MODIFIED:20230303T190718Z
UID:9320-1678456800-1678456800@connectmagazine.org
SUMMARY:Qigong
DESCRIPTION:Renee is a Level 3 Qigong Instructor under Master Simon Blow
URL:https://connectmagazine.org/community-event/qigong-2-2-2-2/
LOCATION:Cairns and District Junior Eisteddfod Hall\, 69-71 Greenslopes St\, Cairns\, QLD\, 4870\, Australia
ORGANIZER;CN="Renee Cashman":MAILTO:soundangel@beeuniversal.org
END:VEVENT
BEGIN:VEVENT
DTSTART;TZID=Australia/Brisbane:20230224T163000
DTEND;TZID=Australia/Brisbane:20230224T183000
DTSTAMP:20260424T222214
CREATED:20230303T191654Z
LAST-MODIFIED:20230607T092714Z
UID:9325-1677256200-1677263400@connectmagazine.org
SUMMARY:Falun Dafa (Falun Gong)
DESCRIPTION:Standing Exercises and Sitting Meditation
URL:https://connectmagazine.org/community-event/falun-dafa-falun-gong-2/
LOCATION:North of Muddy’s Playground\, Esplanade\, Cairns\, QLD\, Australia
ATTACH;FMTTYPE=image/jpeg:https://connectmagazine.org/wp-content/uploads/2023/03/Jessica_horiz.jpg
END:VEVENT
BEGIN:VEVENT
DTSTART;TZID=Australia/Brisbane:20230308T090000
DTEND;TZID=Australia/Brisbane:20230308T100000
DTSTAMP:20260424T222214
CREATED:20230303T083812Z
LAST-MODIFIED:20230303T190133Z
UID:9318-1678266000-1678269600@connectmagazine.org
SUMMARY:Tai Chi Mareeba
DESCRIPTION:Tai Chi for Arthritis and Falls Prevention \nRenee is a Level 1 Instructor under Dr. Paul Lam \nRenee is a Level 3 Qigong Instructor under Master Simon Blow
URL:https://connectmagazine.org/community-event/tai-chi-mareeba-2022-09-28-2-2-2/
LOCATION:The Spanish Club\, 58 Chewko Rd\, Mareeba\, QLD\, 4880\, Australia
ATTACH;FMTTYPE=image/jpeg:https://connectmagazine.org/wp-content/uploads/2022/02/IMG_0757.jpg
ORGANIZER;CN="Renee Cashman":MAILTO:soundangel@beeuniversal.org
END:VEVENT
BEGIN:VEVENT
DTSTART;TZID=Australia/Brisbane:20230310T140000
DTEND;TZID=Australia/Brisbane:20230310T140000
DTSTAMP:20260424T222214
CREATED:20230303T190517Z
LAST-MODIFIED:20230303T190718Z
UID:9320-1678456800-1678456800@connectmagazine.org
SUMMARY:Qigong
DESCRIPTION:Renee is a Level 3 Qigong Instructor under Master Simon Blow
URL:https://connectmagazine.org/community-event/qigong-2-2-2-2/
LOCATION:Cairns and District Junior Eisteddfod Hall\, 69-71 Greenslopes St\, Cairns\, QLD\, 4870\, Australia
ORGANIZER;CN="Renee Cashman":MAILTO:soundangel@beeuniversal.org
END:VEVENT
BEGIN:VEVENT
DTSTART;TZID=Australia/Brisbane:20230224T163000
DTEND;TZID=Australia/Brisbane:20230224T183000
DTSTAMP:20260424T222214
CREATED:20230303T191654Z
LAST-MODIFIED:20230607T092714Z
UID:9325-1677256200-1677263400@connectmagazine.org
SUMMARY:Falun Dafa (Falun Gong)
DESCRIPTION:Standing Exercises and Sitting Meditation
URL:https://connectmagazine.org/community-event/falun-dafa-falun-gong-2/
LOCATION:North of Muddy’s Playground\, Esplanade\, Cairns\, QLD\, Australia
ATTACH;FMTTYPE=image/jpeg:https://connectmagazine.org/wp-content/uploads/2023/03/Jessica_horiz.jpg
END:VEVENT
BEGIN:VEVENT
DTSTART;TZID=Australia/Brisbane:20230308T090000
DTEND;TZID=Australia/Brisbane:20230308T100000
DTSTAMP:20260424T222214
CREATED:20230303T083812Z
LAST-MODIFIED:20230303T190133Z
UID:9318-1678266000-1678269600@connectmagazine.org
SUMMARY:Tai Chi Mareeba
DESCRIPTION:Tai Chi for Arthritis and Falls Prevention \nRenee is a Level 1 Instructor under Dr. Paul Lam \nRenee is a Level 3 Qigong Instructor under Master Simon Blow
URL:https://connectmagazine.org/community-event/tai-chi-mareeba-2022-09-28-2-2-2/
LOCATION:The Spanish Club\, 58 Chewko Rd\, Mareeba\, QLD\, 4880\, Australia
ATTACH;FMTTYPE=image/jpeg:https://connectmagazine.org/wp-content/uploads/2022/02/IMG_0757.jpg
ORGANIZER;CN="Renee Cashman":MAILTO:soundangel@beeuniversal.org
END:VEVENT
BEGIN:VEVENT
DTSTART;TZID=Australia/Brisbane:20230310T140000
DTEND;TZID=Australia/Brisbane:20230310T140000
DTSTAMP:20260424T222214
CREATED:20230303T190517Z
LAST-MODIFIED:20230303T190718Z
UID:9320-1678456800-1678456800@connectmagazine.org
SUMMARY:Qigong
DESCRIPTION:Renee is a Level 3 Qigong Instructor under Master Simon Blow
URL:https://connectmagazine.org/community-event/qigong-2-2-2-2/
LOCATION:Cairns and District Junior Eisteddfod Hall\, 69-71 Greenslopes St\, Cairns\, QLD\, 4870\, Australia
ORGANIZER;CN="Renee Cashman":MAILTO:soundangel@beeuniversal.org
END:VEVENT
BEGIN:VEVENT
DTSTART;TZID=Australia/Brisbane:20230224T163000
DTEND;TZID=Australia/Brisbane:20230224T183000
DTSTAMP:20260424T222214
CREATED:20230303T191654Z
LAST-MODIFIED:20230607T092714Z
UID:9325-1677256200-1677263400@connectmagazine.org
SUMMARY:Falun Dafa (Falun Gong)
DESCRIPTION:Standing Exercises and Sitting Meditation
URL:https://connectmagazine.org/community-event/falun-dafa-falun-gong-2/
LOCATION:North of Muddy’s Playground\, Esplanade\, Cairns\, QLD\, Australia
ATTACH;FMTTYPE=image/jpeg:https://connectmagazine.org/wp-content/uploads/2023/03/Jessica_horiz.jpg
END:VEVENT
BEGIN:VEVENT
DTSTART;TZID=Australia/Brisbane:20230308T090000
DTEND;TZID=Australia/Brisbane:20230308T100000
DTSTAMP:20260424T222214
CREATED:20230303T083812Z
LAST-MODIFIED:20230303T190133Z
UID:9318-1678266000-1678269600@connectmagazine.org
SUMMARY:Tai Chi Mareeba
DESCRIPTION:Tai Chi for Arthritis and Falls Prevention \nRenee is a Level 1 Instructor under Dr. Paul Lam \nRenee is a Level 3 Qigong Instructor under Master Simon Blow
URL:https://connectmagazine.org/community-event/tai-chi-mareeba-2022-09-28-2-2-2/
LOCATION:The Spanish Club\, 58 Chewko Rd\, Mareeba\, QLD\, 4880\, Australia
ATTACH;FMTTYPE=image/jpeg:https://connectmagazine.org/wp-content/uploads/2022/02/IMG_0757.jpg
ORGANIZER;CN="Renee Cashman":MAILTO:soundangel@beeuniversal.org
END:VEVENT
BEGIN:VEVENT
DTSTART;TZID=Australia/Brisbane:20230310T140000
DTEND;TZID=Australia/Brisbane:20230310T140000
DTSTAMP:20260424T222214
CREATED:20230303T190517Z
LAST-MODIFIED:20230303T190718Z
UID:9320-1678456800-1678456800@connectmagazine.org
SUMMARY:Qigong
DESCRIPTION:Renee is a Level 3 Qigong Instructor under Master Simon Blow
URL:https://connectmagazine.org/community-event/qigong-2-2-2-2/
LOCATION:Cairns and District Junior Eisteddfod Hall\, 69-71 Greenslopes St\, Cairns\, QLD\, 4870\, Australia
ORGANIZER;CN="Renee Cashman":MAILTO:soundangel@beeuniversal.org
END:VEVENT
BEGIN:VEVENT
DTSTART;TZID=Australia/Brisbane:20230213T103000
DTEND;TZID=Australia/Brisbane:20230213T113000
DTSTAMP:20260424T222214
CREATED:20201109T084648Z
LAST-MODIFIED:20230607T101519Z
UID:7825-1676284200-1676287800@connectmagazine.org
SUMMARY:Chakra Sound Journey
DESCRIPTION:Relax the body\, clear the mind\, calm the emotions with a Sound Meditation. \nThis is a guided meditation taking a journey through the 7 major chakras to harmonise featuring the Crystal Singing Bowls and Crystal Lyre. \nTune Up and Tune In \nBring a yoga mat to lay on. \nCasual $15 / 5 Class Pass $60 \nPh: 0428 846 799 \n 
URL:https://connectmagazine.org/community-event/chakra-sound-journey/
LOCATION:Khacho Yulo Ling Buddhist Centre\, 348 Severin St\, Cairns\, QLD\, Australia
ATTACH;FMTTYPE=image/jpeg:https://connectmagazine.org/wp-content/uploads/2020/11/chakrajourney_rainbow-scaled.jpg
ORGANIZER;CN="Renee Cashman":MAILTO:soundangel@beeuniversal.org
END:VEVENT
BEGIN:VEVENT
DTSTART;TZID=Australia/Brisbane:20230224T163000
DTEND;TZID=Australia/Brisbane:20230224T183000
DTSTAMP:20260424T222214
CREATED:20230303T191654Z
LAST-MODIFIED:20230607T092714Z
UID:9325-1677256200-1677263400@connectmagazine.org
SUMMARY:Falun Dafa (Falun Gong)
DESCRIPTION:Standing Exercises and Sitting Meditation
URL:https://connectmagazine.org/community-event/falun-dafa-falun-gong-2/
LOCATION:North of Muddy’s Playground\, Esplanade\, Cairns\, QLD\, Australia
ATTACH;FMTTYPE=image/jpeg:https://connectmagazine.org/wp-content/uploads/2023/03/Jessica_horiz.jpg
END:VEVENT
BEGIN:VEVENT
DTSTART;TZID=Australia/Brisbane:20230309T180000
DTEND;TZID=Australia/Brisbane:20230309T190000
DTSTAMP:20260424T222214
CREATED:20230308T100042Z
LAST-MODIFIED:20230308T100042Z
UID:9356-1678384800-1678388400@connectmagazine.org
SUMMARY:Sound Healing Therapy
DESCRIPTION:Sound Healing Therapy offers a safe space with a qualified practitioner to engage with visualisation\, set intentions\, restore and relax guided by Leilana through her dynamic use of voice and instruments from around the world in these varied sessions. Invitation to connect over a cup of herbal tea offered for 15minutes after the session\, BYO mug :)
URL:https://connectmagazine.org/community-event/sound-healing-therapy-2/
LOCATION:Thrive Yoga Tribe\, Level 1\, 55 Main St\, Atherton
ATTACH;FMTTYPE=image/jpeg:https://connectmagazine.org/wp-content/uploads/2023/03/LEILANAGRACE-08-04-2020-DAINTREE-CHANELBARANPHOTO13.jpg
ORGANIZER;CN="Leilana Grace":MAILTO:momentsintouch@gmail.com
END:VEVENT
BEGIN:VEVENT
DTSTART;TZID=Australia/Brisbane:20230308T090000
DTEND;TZID=Australia/Brisbane:20230308T100000
DTSTAMP:20260424T222214
CREATED:20230303T083812Z
LAST-MODIFIED:20230303T190133Z
UID:9318-1678266000-1678269600@connectmagazine.org
SUMMARY:Tai Chi Mareeba
DESCRIPTION:Tai Chi for Arthritis and Falls Prevention \nRenee is a Level 1 Instructor under Dr. Paul Lam \nRenee is a Level 3 Qigong Instructor under Master Simon Blow
URL:https://connectmagazine.org/community-event/tai-chi-mareeba-2022-09-28-2-2-2/
LOCATION:The Spanish Club\, 58 Chewko Rd\, Mareeba\, QLD\, 4880\, Australia
ATTACH;FMTTYPE=image/jpeg:https://connectmagazine.org/wp-content/uploads/2022/02/IMG_0757.jpg
ORGANIZER;CN="Renee Cashman":MAILTO:soundangel@beeuniversal.org
END:VEVENT
BEGIN:VEVENT
DTSTART;TZID=Australia/Brisbane:20230310T140000
DTEND;TZID=Australia/Brisbane:20230310T140000
DTSTAMP:20260424T222214
CREATED:20230303T190517Z
LAST-MODIFIED:20230303T190718Z
UID:9320-1678456800-1678456800@connectmagazine.org
SUMMARY:Qigong
DESCRIPTION:Renee is a Level 3 Qigong Instructor under Master Simon Blow
URL:https://connectmagazine.org/community-event/qigong-2-2-2-2/
LOCATION:Cairns and District Junior Eisteddfod Hall\, 69-71 Greenslopes St\, Cairns\, QLD\, 4870\, Australia
ORGANIZER;CN="Renee Cashman":MAILTO:soundangel@beeuniversal.org
END:VEVENT
BEGIN:VEVENT
DTSTART;TZID=Australia/Brisbane:20230313T180000
DTEND;TZID=Australia/Brisbane:20230313T185000
DTSTAMP:20260424T222214
CREATED:20230308T051118Z
LAST-MODIFIED:20230308T051120Z
UID:9336-1678730400-1678733400@connectmagazine.org
SUMMARY:Shimmy Express - Mondays
DESCRIPTION:A dance of today. An eclectic\, invigorating and elegant fusion dance based on urban\, folk\, ritual\, trance\, bellydance\, and modern dance. Women centric\, we dance for joy and connection. In all of my classes you will be welcomed into a circle of women\, a safe space to move your body freely in creative expression and to learn this dance language at your own pace. \nLet dance bring sparkle into your life and joy into your weekly routine.
URL:https://connectmagazine.org/community-event/shimmy-express-mondays/
LOCATION:Strictly Street Salsa\, 20B/157 Mulgrave Rd\, Bungalow\, Qld\, Australia
ATTACH;FMTTYPE=image/jpeg:https://connectmagazine.org/wp-content/uploads/2020/09/Sienna-Dance-pic.jpg
ORGANIZER;CN="Sienna":MAILTO:dancewithsiennak@gmail.com
END:VEVENT
BEGIN:VEVENT
DTSTART;TZID=Australia/Brisbane:20230313T090000
DTEND;TZID=Australia/Brisbane:20230313T100000
DTSTAMP:20260424T222214
CREATED:20230308T091713Z
LAST-MODIFIED:20230308T091717Z
UID:9344-1678698000-1678701600@connectmagazine.org
SUMMARY:Laughter Yoga
DESCRIPTION:Laughter is the best medicine – it boosts the immune system\, provides pain relief\, improves sleep\, manages stress and decreases anxiety. \nLaughter Yoga Australia is a recognised National Social Prescription Provider\, for emotional\, mental\, physical and social health\, as well as pain management.
URL:https://connectmagazine.org/community-event/laughter-yoga/
LOCATION:Malanda Wellbeing Centre\, 19 James St\, Malanda
ATTACH;FMTTYPE=image/jpeg:https://connectmagazine.org/wp-content/uploads/2023/03/Laughter-Yoga.jpg
ORGANIZER;CN="Annie O'Loughlin":MAILTO:aeo.taichi@gmail.com
END:VEVENT
BEGIN:VEVENT
DTSTART;TZID=Australia/Brisbane:20230304T073000
DTEND;TZID=Australia/Brisbane:20230304T083000
DTSTAMP:20260424T222214
CREATED:20230303T190913Z
LAST-MODIFIED:20230303T190914Z
UID:9322-1677915000-1677918600@connectmagazine.org
SUMMARY:Qigong Cairns
DESCRIPTION:Qigong is an ancient Chinese system of movement meditation that cultivates the life force energy\, called Qi. It is one of the pearls of Traditional Chinese Medicine and is used to treat a broad range of illnesses. When Qi is deficient\, stagnant or blocked and unbalanced we experience dis-ease. Through the practise of Qigong one can work with the Qi and regain flow and balance.\nRenee teaches the Taiji Qigong Shibashi as a core of each lesson\, with time to learn and continue with other forms such as the Longevity Qigong\, Ba Duan Jin\, Liu He Gong and the first 11 movements of the Da Yan Wild Goose Qigong.\nRenee holds a Qigong Teaching Certificate Level 3 under Master Simon Blow. Has completed studying Understanding Traditional Chinese Medicine at the Australian College of Eastern Medicine. And has also recently been accredited by Dr. Paul Lam to teach Tai Chi for Arthritis and Falls Prevention. She is also a 1st Dan Blackbelt in Shitoryu Karate and Tang Soo Do.\nClasses are $15 casual / 5 Class Pass $60
URL:https://connectmagazine.org/community-event/qigong-3-2-2/
LOCATION:Yorkeys Knob Community Hall\, Wattle St\, Yorkeys Knob\, QLD\, 4878\, Australia
ATTACH;FMTTYPE=image/jpeg:https://connectmagazine.org/wp-content/uploads/2021/03/qigong-scaled.jpg
ORGANIZER;CN="Renee Cashman":MAILTO:soundangel@beeuniversal.org
END:VEVENT
BEGIN:VEVENT
DTSTART;TZID=Australia/Brisbane:20230224T163000
DTEND;TZID=Australia/Brisbane:20230224T183000
DTSTAMP:20260424T222214
CREATED:20230303T191654Z
LAST-MODIFIED:20230607T092714Z
UID:9325-1677256200-1677263400@connectmagazine.org
SUMMARY:Falun Dafa (Falun Gong)
DESCRIPTION:Standing Exercises and Sitting Meditation
URL:https://connectmagazine.org/community-event/falun-dafa-falun-gong-2/
LOCATION:North of Muddy’s Playground\, Esplanade\, Cairns\, QLD\, Australia
ATTACH;FMTTYPE=image/jpeg:https://connectmagazine.org/wp-content/uploads/2023/03/Jessica_horiz.jpg
END:VEVENT
BEGIN:VEVENT
DTSTART;TZID=Australia/Brisbane:20230308T090000
DTEND;TZID=Australia/Brisbane:20230308T100000
DTSTAMP:20260424T222214
CREATED:20230303T083812Z
LAST-MODIFIED:20230303T190133Z
UID:9318-1678266000-1678269600@connectmagazine.org
SUMMARY:Tai Chi Mareeba
DESCRIPTION:Tai Chi for Arthritis and Falls Prevention \nRenee is a Level 1 Instructor under Dr. Paul Lam \nRenee is a Level 3 Qigong Instructor under Master Simon Blow
URL:https://connectmagazine.org/community-event/tai-chi-mareeba-2022-09-28-2-2-2/
LOCATION:The Spanish Club\, 58 Chewko Rd\, Mareeba\, QLD\, 4880\, Australia
ATTACH;FMTTYPE=image/jpeg:https://connectmagazine.org/wp-content/uploads/2022/02/IMG_0757.jpg
ORGANIZER;CN="Renee Cashman":MAILTO:soundangel@beeuniversal.org
END:VEVENT
BEGIN:VEVENT
DTSTART;TZID=Australia/Brisbane:20230310T140000
DTEND;TZID=Australia/Brisbane:20230310T140000
DTSTAMP:20260424T222214
CREATED:20230303T190517Z
LAST-MODIFIED:20230303T190718Z
UID:9320-1678456800-1678456800@connectmagazine.org
SUMMARY:Qigong
DESCRIPTION:Renee is a Level 3 Qigong Instructor under Master Simon Blow
URL:https://connectmagazine.org/community-event/qigong-2-2-2-2/
LOCATION:Cairns and District Junior Eisteddfod Hall\, 69-71 Greenslopes St\, Cairns\, QLD\, 4870\, Australia
ORGANIZER;CN="Renee Cashman":MAILTO:soundangel@beeuniversal.org
END:VEVENT
BEGIN:VEVENT
DTSTART;TZID=Australia/Brisbane:20230313T180000
DTEND;TZID=Australia/Brisbane:20230313T185000
DTSTAMP:20260424T222214
CREATED:20230308T051118Z
LAST-MODIFIED:20230308T051120Z
UID:9336-1678730400-1678733400@connectmagazine.org
SUMMARY:Shimmy Express - Mondays
DESCRIPTION:A dance of today. An eclectic\, invigorating and elegant fusion dance based on urban\, folk\, ritual\, trance\, bellydance\, and modern dance. Women centric\, we dance for joy and connection. In all of my classes you will be welcomed into a circle of women\, a safe space to move your body freely in creative expression and to learn this dance language at your own pace. \nLet dance bring sparkle into your life and joy into your weekly routine.
URL:https://connectmagazine.org/community-event/shimmy-express-mondays/
LOCATION:Strictly Street Salsa\, 20B/157 Mulgrave Rd\, Bungalow\, Qld\, Australia
ATTACH;FMTTYPE=image/jpeg:https://connectmagazine.org/wp-content/uploads/2020/09/Sienna-Dance-pic.jpg
ORGANIZER;CN="Sienna":MAILTO:dancewithsiennak@gmail.com
END:VEVENT
BEGIN:VEVENT
DTSTART;TZID=Australia/Brisbane:20230313T090000
DTEND;TZID=Australia/Brisbane:20230313T100000
DTSTAMP:20260424T222214
CREATED:20230308T091713Z
LAST-MODIFIED:20230308T091717Z
UID:9344-1678698000-1678701600@connectmagazine.org
SUMMARY:Laughter Yoga
DESCRIPTION:Laughter is the best medicine – it boosts the immune system\, provides pain relief\, improves sleep\, manages stress and decreases anxiety. \nLaughter Yoga Australia is a recognised National Social Prescription Provider\, for emotional\, mental\, physical and social health\, as well as pain management.
URL:https://connectmagazine.org/community-event/laughter-yoga/
LOCATION:Malanda Wellbeing Centre\, 19 James St\, Malanda
ATTACH;FMTTYPE=image/jpeg:https://connectmagazine.org/wp-content/uploads/2023/03/Laughter-Yoga.jpg
ORGANIZER;CN="Annie O'Loughlin":MAILTO:aeo.taichi@gmail.com
END:VEVENT
BEGIN:VEVENT
DTSTART;TZID=Australia/Brisbane:20230304T073000
DTEND;TZID=Australia/Brisbane:20230304T083000
DTSTAMP:20260424T222215
CREATED:20230303T190913Z
LAST-MODIFIED:20230303T190914Z
UID:9322-1677915000-1677918600@connectmagazine.org
SUMMARY:Qigong Cairns
DESCRIPTION:Qigong is an ancient Chinese system of movement meditation that cultivates the life force energy\, called Qi. It is one of the pearls of Traditional Chinese Medicine and is used to treat a broad range of illnesses. When Qi is deficient\, stagnant or blocked and unbalanced we experience dis-ease. Through the practise of Qigong one can work with the Qi and regain flow and balance.\nRenee teaches the Taiji Qigong Shibashi as a core of each lesson\, with time to learn and continue with other forms such as the Longevity Qigong\, Ba Duan Jin\, Liu He Gong and the first 11 movements of the Da Yan Wild Goose Qigong.\nRenee holds a Qigong Teaching Certificate Level 3 under Master Simon Blow. Has completed studying Understanding Traditional Chinese Medicine at the Australian College of Eastern Medicine. And has also recently been accredited by Dr. Paul Lam to teach Tai Chi for Arthritis and Falls Prevention. She is also a 1st Dan Blackbelt in Shitoryu Karate and Tang Soo Do.\nClasses are $15 casual / 5 Class Pass $60
URL:https://connectmagazine.org/community-event/qigong-3-2-2/
LOCATION:Yorkeys Knob Community Hall\, Wattle St\, Yorkeys Knob\, QLD\, 4878\, Australia
ATTACH;FMTTYPE=image/jpeg:https://connectmagazine.org/wp-content/uploads/2021/03/qigong-scaled.jpg
ORGANIZER;CN="Renee Cashman":MAILTO:soundangel@beeuniversal.org
END:VEVENT
BEGIN:VEVENT
DTSTART;TZID=Australia/Brisbane:20230224T163000
DTEND;TZID=Australia/Brisbane:20230224T183000
DTSTAMP:20260424T222215
CREATED:20230303T191654Z
LAST-MODIFIED:20230607T092714Z
UID:9325-1677256200-1677263400@connectmagazine.org
SUMMARY:Falun Dafa (Falun Gong)
DESCRIPTION:Standing Exercises and Sitting Meditation
URL:https://connectmagazine.org/community-event/falun-dafa-falun-gong-2/
LOCATION:North of Muddy’s Playground\, Esplanade\, Cairns\, QLD\, Australia
ATTACH;FMTTYPE=image/jpeg:https://connectmagazine.org/wp-content/uploads/2023/03/Jessica_horiz.jpg
END:VEVENT
BEGIN:VEVENT
DTSTART;TZID=Australia/Brisbane:20230308T090000
DTEND;TZID=Australia/Brisbane:20230308T100000
DTSTAMP:20260424T222215
CREATED:20230303T083812Z
LAST-MODIFIED:20230303T190133Z
UID:9318-1678266000-1678269600@connectmagazine.org
SUMMARY:Tai Chi Mareeba
DESCRIPTION:Tai Chi for Arthritis and Falls Prevention \nRenee is a Level 1 Instructor under Dr. Paul Lam \nRenee is a Level 3 Qigong Instructor under Master Simon Blow
URL:https://connectmagazine.org/community-event/tai-chi-mareeba-2022-09-28-2-2-2/
LOCATION:The Spanish Club\, 58 Chewko Rd\, Mareeba\, QLD\, 4880\, Australia
ATTACH;FMTTYPE=image/jpeg:https://connectmagazine.org/wp-content/uploads/2022/02/IMG_0757.jpg
ORGANIZER;CN="Renee Cashman":MAILTO:soundangel@beeuniversal.org
END:VEVENT
BEGIN:VEVENT
DTSTART;TZID=Australia/Brisbane:20230310T140000
DTEND;TZID=Australia/Brisbane:20230310T140000
DTSTAMP:20260424T222215
CREATED:20230303T190517Z
LAST-MODIFIED:20230303T190718Z
UID:9320-1678456800-1678456800@connectmagazine.org
SUMMARY:Qigong
DESCRIPTION:Renee is a Level 3 Qigong Instructor under Master Simon Blow
URL:https://connectmagazine.org/community-event/qigong-2-2-2-2/
LOCATION:Cairns and District Junior Eisteddfod Hall\, 69-71 Greenslopes St\, Cairns\, QLD\, 4870\, Australia
ORGANIZER;CN="Renee Cashman":MAILTO:soundangel@beeuniversal.org
END:VEVENT
END:VCALENDAR