BEGIN:VCALENDAR
VERSION:2.0
PRODID:-//Connect Magazine - ECPv6.11.2//NONSGML v1.0//EN
CALSCALE:GREGORIAN
METHOD:PUBLISH
X-WR-CALNAME:Connect Magazine
X-ORIGINAL-URL:https://connectmagazine.org
X-WR-CALDESC:Events for Connect Magazine
REFRESH-INTERVAL;VALUE=DURATION:PT1H
X-Robots-Tag:noindex
X-PUBLISHED-TTL:PT1H
BEGIN:VTIMEZONE
TZID:Australia/Brisbane
BEGIN:STANDARD
TZOFFSETFROM:+1000
TZOFFSETTO:+1000
TZNAME:AEST
DTSTART:20240101T000000
END:STANDARD
END:VTIMEZONE
BEGIN:VEVENT
DTSTART;TZID=Australia/Brisbane:20240701T073000
DTEND;TZID=Australia/Brisbane:20240701T083000
DTSTAMP:20260422T003556
CREATED:20240626T064402Z
LAST-MODIFIED:20240626T064402Z
UID:9899-1719819000-1719822600@connectmagazine.org
SUMMARY:Tai Chi and Qigong
DESCRIPTION:Join us in the practice of this gentle art. Suitable for all abilities.
URL:https://connectmagazine.org/community-event/tai-chi-and-qigong/
LOCATION:Mossman and Daintree\, QLD\, Australia
ATTACH;FMTTYPE=image/jpeg:https://connectmagazine.org/wp-content/uploads/2024/06/dreamstime_s_227077900.jpg
ORGANIZER;CN="Jancy Leigh":MAILTO:gaylehealey1@gmail.com
END:VEVENT
BEGIN:VEVENT
DTSTART;TZID=Australia/Brisbane:20240626T163000
DTEND;TZID=Australia/Brisbane:20240626T173000
DTSTAMP:20260422T003556
CREATED:20240626T064753Z
LAST-MODIFIED:20240626T064753Z
UID:9906-1719419400-1719423000@connectmagazine.org
SUMMARY:Tai Chi & Qigong All levels
DESCRIPTION:Join us in the practice of this gentle art. Suitable for all abilities.
URL:https://connectmagazine.org/community-event/tai-chi-qigong-all-levels/
LOCATION:Mossman and Daintree\, QLD\, Australia
ATTACH;FMTTYPE=image/jpeg:https://connectmagazine.org/wp-content/uploads/2024/06/dreamstime_s_227077900.jpg
ORGANIZER;CN="Jancy Leigh":MAILTO:gaylehealey1@gmail.com
END:VEVENT
BEGIN:VEVENT
DTSTART;TZID=Australia/Brisbane:20240626T153000
DTEND;TZID=Australia/Brisbane:20240626T163000
DTSTAMP:20260422T003556
CREATED:20240626T064603Z
LAST-MODIFIED:20240626T064603Z
UID:9904-1719415800-1719419400@connectmagazine.org
SUMMARY:New to Tai Chi & Qigong
DESCRIPTION:Join us in the practice of this gentle art. Suitable for beginners.
URL:https://connectmagazine.org/community-event/new-to-tai-chi-qigong/
LOCATION:Mossman and Daintree\, QLD\, Australia
ATTACH;FMTTYPE=image/jpeg:https://connectmagazine.org/wp-content/uploads/2024/06/dreamstime_s_227077900.jpg
ORGANIZER;CN="Jancy Leigh":MAILTO:gaylehealey1@gmail.com
END:VEVENT
BEGIN:VEVENT
DTSTART;TZID=Australia/Brisbane:20240701T073000
DTEND;TZID=Australia/Brisbane:20240701T083000
DTSTAMP:20260422T003556
CREATED:20240626T064402Z
LAST-MODIFIED:20240626T064402Z
UID:9899-1719819000-1719822600@connectmagazine.org
SUMMARY:Tai Chi and Qigong
DESCRIPTION:Join us in the practice of this gentle art. Suitable for all abilities.
URL:https://connectmagazine.org/community-event/tai-chi-and-qigong/
LOCATION:Mossman and Daintree\, QLD\, Australia
ATTACH;FMTTYPE=image/jpeg:https://connectmagazine.org/wp-content/uploads/2024/06/dreamstime_s_227077900.jpg
ORGANIZER;CN="Jancy Leigh":MAILTO:gaylehealey1@gmail.com
END:VEVENT
BEGIN:VEVENT
DTSTART;TZID=Australia/Brisbane:20240626T163000
DTEND;TZID=Australia/Brisbane:20240626T173000
DTSTAMP:20260422T003556
CREATED:20240626T064753Z
LAST-MODIFIED:20240626T064753Z
UID:9906-1719419400-1719423000@connectmagazine.org
SUMMARY:Tai Chi & Qigong All levels
DESCRIPTION:Join us in the practice of this gentle art. Suitable for all abilities.
URL:https://connectmagazine.org/community-event/tai-chi-qigong-all-levels/
LOCATION:Mossman and Daintree\, QLD\, Australia
ATTACH;FMTTYPE=image/jpeg:https://connectmagazine.org/wp-content/uploads/2024/06/dreamstime_s_227077900.jpg
ORGANIZER;CN="Jancy Leigh":MAILTO:gaylehealey1@gmail.com
END:VEVENT
BEGIN:VEVENT
DTSTART;TZID=Australia/Brisbane:20240626T153000
DTEND;TZID=Australia/Brisbane:20240626T163000
DTSTAMP:20260422T003556
CREATED:20240626T064603Z
LAST-MODIFIED:20240626T064603Z
UID:9904-1719415800-1719419400@connectmagazine.org
SUMMARY:New to Tai Chi & Qigong
DESCRIPTION:Join us in the practice of this gentle art. Suitable for beginners.
URL:https://connectmagazine.org/community-event/new-to-tai-chi-qigong/
LOCATION:Mossman and Daintree\, QLD\, Australia
ATTACH;FMTTYPE=image/jpeg:https://connectmagazine.org/wp-content/uploads/2024/06/dreamstime_s_227077900.jpg
ORGANIZER;CN="Jancy Leigh":MAILTO:gaylehealey1@gmail.com
END:VEVENT
BEGIN:VEVENT
DTSTART;TZID=Australia/Brisbane:20240701T073000
DTEND;TZID=Australia/Brisbane:20240701T083000
DTSTAMP:20260422T003556
CREATED:20240626T064402Z
LAST-MODIFIED:20240626T064402Z
UID:9899-1719819000-1719822600@connectmagazine.org
SUMMARY:Tai Chi and Qigong
DESCRIPTION:Join us in the practice of this gentle art. Suitable for all abilities.
URL:https://connectmagazine.org/community-event/tai-chi-and-qigong/
LOCATION:Mossman and Daintree\, QLD\, Australia
ATTACH;FMTTYPE=image/jpeg:https://connectmagazine.org/wp-content/uploads/2024/06/dreamstime_s_227077900.jpg
ORGANIZER;CN="Jancy Leigh":MAILTO:gaylehealey1@gmail.com
END:VEVENT
BEGIN:VEVENT
DTSTART;TZID=Australia/Brisbane:20240626T163000
DTEND;TZID=Australia/Brisbane:20240626T173000
DTSTAMP:20260422T003556
CREATED:20240626T064753Z
LAST-MODIFIED:20240626T064753Z
UID:9906-1719419400-1719423000@connectmagazine.org
SUMMARY:Tai Chi & Qigong All levels
DESCRIPTION:Join us in the practice of this gentle art. Suitable for all abilities.
URL:https://connectmagazine.org/community-event/tai-chi-qigong-all-levels/
LOCATION:Mossman and Daintree\, QLD\, Australia
ATTACH;FMTTYPE=image/jpeg:https://connectmagazine.org/wp-content/uploads/2024/06/dreamstime_s_227077900.jpg
ORGANIZER;CN="Jancy Leigh":MAILTO:gaylehealey1@gmail.com
END:VEVENT
BEGIN:VEVENT
DTSTART;TZID=Australia/Brisbane:20240626T153000
DTEND;TZID=Australia/Brisbane:20240626T163000
DTSTAMP:20260422T003556
CREATED:20240626T064603Z
LAST-MODIFIED:20240626T064603Z
UID:9904-1719415800-1719419400@connectmagazine.org
SUMMARY:New to Tai Chi & Qigong
DESCRIPTION:Join us in the practice of this gentle art. Suitable for beginners.
URL:https://connectmagazine.org/community-event/new-to-tai-chi-qigong/
LOCATION:Mossman and Daintree\, QLD\, Australia
ATTACH;FMTTYPE=image/jpeg:https://connectmagazine.org/wp-content/uploads/2024/06/dreamstime_s_227077900.jpg
ORGANIZER;CN="Jancy Leigh":MAILTO:gaylehealey1@gmail.com
END:VEVENT
BEGIN:VEVENT
DTSTART;TZID=Australia/Brisbane:20240701T073000
DTEND;TZID=Australia/Brisbane:20240701T083000
DTSTAMP:20260422T003556
CREATED:20240626T064402Z
LAST-MODIFIED:20240626T064402Z
UID:9899-1719819000-1719822600@connectmagazine.org
SUMMARY:Tai Chi and Qigong
DESCRIPTION:Join us in the practice of this gentle art. Suitable for all abilities.
URL:https://connectmagazine.org/community-event/tai-chi-and-qigong/
LOCATION:Mossman and Daintree\, QLD\, Australia
ATTACH;FMTTYPE=image/jpeg:https://connectmagazine.org/wp-content/uploads/2024/06/dreamstime_s_227077900.jpg
ORGANIZER;CN="Jancy Leigh":MAILTO:gaylehealey1@gmail.com
END:VEVENT
BEGIN:VEVENT
DTSTART;TZID=Australia/Brisbane:20240626T163000
DTEND;TZID=Australia/Brisbane:20240626T173000
DTSTAMP:20260422T003556
CREATED:20240626T064753Z
LAST-MODIFIED:20240626T064753Z
UID:9906-1719419400-1719423000@connectmagazine.org
SUMMARY:Tai Chi & Qigong All levels
DESCRIPTION:Join us in the practice of this gentle art. Suitable for all abilities.
URL:https://connectmagazine.org/community-event/tai-chi-qigong-all-levels/
LOCATION:Mossman and Daintree\, QLD\, Australia
ATTACH;FMTTYPE=image/jpeg:https://connectmagazine.org/wp-content/uploads/2024/06/dreamstime_s_227077900.jpg
ORGANIZER;CN="Jancy Leigh":MAILTO:gaylehealey1@gmail.com
END:VEVENT
BEGIN:VEVENT
DTSTART;TZID=Australia/Brisbane:20240626T153000
DTEND;TZID=Australia/Brisbane:20240626T163000
DTSTAMP:20260422T003556
CREATED:20240626T064603Z
LAST-MODIFIED:20240626T064603Z
UID:9904-1719415800-1719419400@connectmagazine.org
SUMMARY:New to Tai Chi & Qigong
DESCRIPTION:Join us in the practice of this gentle art. Suitable for beginners.
URL:https://connectmagazine.org/community-event/new-to-tai-chi-qigong/
LOCATION:Mossman and Daintree\, QLD\, Australia
ATTACH;FMTTYPE=image/jpeg:https://connectmagazine.org/wp-content/uploads/2024/06/dreamstime_s_227077900.jpg
ORGANIZER;CN="Jancy Leigh":MAILTO:gaylehealey1@gmail.com
END:VEVENT
BEGIN:VEVENT
DTSTART;TZID=Australia/Brisbane:20240701T073000
DTEND;TZID=Australia/Brisbane:20240701T083000
DTSTAMP:20260422T003556
CREATED:20240626T064402Z
LAST-MODIFIED:20240626T064402Z
UID:9899-1719819000-1719822600@connectmagazine.org
SUMMARY:Tai Chi and Qigong
DESCRIPTION:Join us in the practice of this gentle art. Suitable for all abilities.
URL:https://connectmagazine.org/community-event/tai-chi-and-qigong/
LOCATION:Mossman and Daintree\, QLD\, Australia
ATTACH;FMTTYPE=image/jpeg:https://connectmagazine.org/wp-content/uploads/2024/06/dreamstime_s_227077900.jpg
ORGANIZER;CN="Jancy Leigh":MAILTO:gaylehealey1@gmail.com
END:VEVENT
BEGIN:VEVENT
DTSTART;TZID=Australia/Brisbane:20240626T163000
DTEND;TZID=Australia/Brisbane:20240626T173000
DTSTAMP:20260422T003556
CREATED:20240626T064753Z
LAST-MODIFIED:20240626T064753Z
UID:9906-1719419400-1719423000@connectmagazine.org
SUMMARY:Tai Chi & Qigong All levels
DESCRIPTION:Join us in the practice of this gentle art. Suitable for all abilities.
URL:https://connectmagazine.org/community-event/tai-chi-qigong-all-levels/
LOCATION:Mossman and Daintree\, QLD\, Australia
ATTACH;FMTTYPE=image/jpeg:https://connectmagazine.org/wp-content/uploads/2024/06/dreamstime_s_227077900.jpg
ORGANIZER;CN="Jancy Leigh":MAILTO:gaylehealey1@gmail.com
END:VEVENT
BEGIN:VEVENT
DTSTART;TZID=Australia/Brisbane:20240626T153000
DTEND;TZID=Australia/Brisbane:20240626T163000
DTSTAMP:20260422T003556
CREATED:20240626T064603Z
LAST-MODIFIED:20240626T064603Z
UID:9904-1719415800-1719419400@connectmagazine.org
SUMMARY:New to Tai Chi & Qigong
DESCRIPTION:Join us in the practice of this gentle art. Suitable for beginners.
URL:https://connectmagazine.org/community-event/new-to-tai-chi-qigong/
LOCATION:Mossman and Daintree\, QLD\, Australia
ATTACH;FMTTYPE=image/jpeg:https://connectmagazine.org/wp-content/uploads/2024/06/dreamstime_s_227077900.jpg
ORGANIZER;CN="Jancy Leigh":MAILTO:gaylehealey1@gmail.com
END:VEVENT
BEGIN:VEVENT
DTSTART;TZID=Australia/Brisbane:20240701T073000
DTEND;TZID=Australia/Brisbane:20240701T083000
DTSTAMP:20260422T003556
CREATED:20240626T064402Z
LAST-MODIFIED:20240626T064402Z
UID:9899-1719819000-1719822600@connectmagazine.org
SUMMARY:Tai Chi and Qigong
DESCRIPTION:Join us in the practice of this gentle art. Suitable for all abilities.
URL:https://connectmagazine.org/community-event/tai-chi-and-qigong/
LOCATION:Mossman and Daintree\, QLD\, Australia
ATTACH;FMTTYPE=image/jpeg:https://connectmagazine.org/wp-content/uploads/2024/06/dreamstime_s_227077900.jpg
ORGANIZER;CN="Jancy Leigh":MAILTO:gaylehealey1@gmail.com
END:VEVENT
BEGIN:VEVENT
DTSTART;TZID=Australia/Brisbane:20240626T163000
DTEND;TZID=Australia/Brisbane:20240626T173000
DTSTAMP:20260422T003556
CREATED:20240626T064753Z
LAST-MODIFIED:20240626T064753Z
UID:9906-1719419400-1719423000@connectmagazine.org
SUMMARY:Tai Chi & Qigong All levels
DESCRIPTION:Join us in the practice of this gentle art. Suitable for all abilities.
URL:https://connectmagazine.org/community-event/tai-chi-qigong-all-levels/
LOCATION:Mossman and Daintree\, QLD\, Australia
ATTACH;FMTTYPE=image/jpeg:https://connectmagazine.org/wp-content/uploads/2024/06/dreamstime_s_227077900.jpg
ORGANIZER;CN="Jancy Leigh":MAILTO:gaylehealey1@gmail.com
END:VEVENT
BEGIN:VEVENT
DTSTART;TZID=Australia/Brisbane:20240626T153000
DTEND;TZID=Australia/Brisbane:20240626T163000
DTSTAMP:20260422T003556
CREATED:20240626T064603Z
LAST-MODIFIED:20240626T064603Z
UID:9904-1719415800-1719419400@connectmagazine.org
SUMMARY:New to Tai Chi & Qigong
DESCRIPTION:Join us in the practice of this gentle art. Suitable for beginners.
URL:https://connectmagazine.org/community-event/new-to-tai-chi-qigong/
LOCATION:Mossman and Daintree\, QLD\, Australia
ATTACH;FMTTYPE=image/jpeg:https://connectmagazine.org/wp-content/uploads/2024/06/dreamstime_s_227077900.jpg
ORGANIZER;CN="Jancy Leigh":MAILTO:gaylehealey1@gmail.com
END:VEVENT
BEGIN:VEVENT
DTSTART;TZID=Australia/Brisbane:20240701T073000
DTEND;TZID=Australia/Brisbane:20240701T083000
DTSTAMP:20260422T003556
CREATED:20240626T064402Z
LAST-MODIFIED:20240626T064402Z
UID:9899-1719819000-1719822600@connectmagazine.org
SUMMARY:Tai Chi and Qigong
DESCRIPTION:Join us in the practice of this gentle art. Suitable for all abilities.
URL:https://connectmagazine.org/community-event/tai-chi-and-qigong/
LOCATION:Mossman and Daintree\, QLD\, Australia
ATTACH;FMTTYPE=image/jpeg:https://connectmagazine.org/wp-content/uploads/2024/06/dreamstime_s_227077900.jpg
ORGANIZER;CN="Jancy Leigh":MAILTO:gaylehealey1@gmail.com
END:VEVENT
BEGIN:VEVENT
DTSTART;TZID=Australia/Brisbane:20240626T163000
DTEND;TZID=Australia/Brisbane:20240626T173000
DTSTAMP:20260422T003556
CREATED:20240626T064753Z
LAST-MODIFIED:20240626T064753Z
UID:9906-1719419400-1719423000@connectmagazine.org
SUMMARY:Tai Chi & Qigong All levels
DESCRIPTION:Join us in the practice of this gentle art. Suitable for all abilities.
URL:https://connectmagazine.org/community-event/tai-chi-qigong-all-levels/
LOCATION:Mossman and Daintree\, QLD\, Australia
ATTACH;FMTTYPE=image/jpeg:https://connectmagazine.org/wp-content/uploads/2024/06/dreamstime_s_227077900.jpg
ORGANIZER;CN="Jancy Leigh":MAILTO:gaylehealey1@gmail.com
END:VEVENT
BEGIN:VEVENT
DTSTART;TZID=Australia/Brisbane:20240626T153000
DTEND;TZID=Australia/Brisbane:20240626T163000
DTSTAMP:20260422T003556
CREATED:20240626T064603Z
LAST-MODIFIED:20240626T064603Z
UID:9904-1719415800-1719419400@connectmagazine.org
SUMMARY:New to Tai Chi & Qigong
DESCRIPTION:Join us in the practice of this gentle art. Suitable for beginners.
URL:https://connectmagazine.org/community-event/new-to-tai-chi-qigong/
LOCATION:Mossman and Daintree\, QLD\, Australia
ATTACH;FMTTYPE=image/jpeg:https://connectmagazine.org/wp-content/uploads/2024/06/dreamstime_s_227077900.jpg
ORGANIZER;CN="Jancy Leigh":MAILTO:gaylehealey1@gmail.com
END:VEVENT
BEGIN:VEVENT
DTSTART;TZID=Australia/Brisbane:20240701T073000
DTEND;TZID=Australia/Brisbane:20240701T083000
DTSTAMP:20260422T003556
CREATED:20240626T064402Z
LAST-MODIFIED:20240626T064402Z
UID:9899-1719819000-1719822600@connectmagazine.org
SUMMARY:Tai Chi and Qigong
DESCRIPTION:Join us in the practice of this gentle art. Suitable for all abilities.
URL:https://connectmagazine.org/community-event/tai-chi-and-qigong/
LOCATION:Mossman and Daintree\, QLD\, Australia
ATTACH;FMTTYPE=image/jpeg:https://connectmagazine.org/wp-content/uploads/2024/06/dreamstime_s_227077900.jpg
ORGANIZER;CN="Jancy Leigh":MAILTO:gaylehealey1@gmail.com
END:VEVENT
BEGIN:VEVENT
DTSTART;TZID=Australia/Brisbane:20240626T163000
DTEND;TZID=Australia/Brisbane:20240626T173000
DTSTAMP:20260422T003556
CREATED:20240626T064753Z
LAST-MODIFIED:20240626T064753Z
UID:9906-1719419400-1719423000@connectmagazine.org
SUMMARY:Tai Chi & Qigong All levels
DESCRIPTION:Join us in the practice of this gentle art. Suitable for all abilities.
URL:https://connectmagazine.org/community-event/tai-chi-qigong-all-levels/
LOCATION:Mossman and Daintree\, QLD\, Australia
ATTACH;FMTTYPE=image/jpeg:https://connectmagazine.org/wp-content/uploads/2024/06/dreamstime_s_227077900.jpg
ORGANIZER;CN="Jancy Leigh":MAILTO:gaylehealey1@gmail.com
END:VEVENT
BEGIN:VEVENT
DTSTART;TZID=Australia/Brisbane:20240626T153000
DTEND;TZID=Australia/Brisbane:20240626T163000
DTSTAMP:20260422T003556
CREATED:20240626T064603Z
LAST-MODIFIED:20240626T064603Z
UID:9904-1719415800-1719419400@connectmagazine.org
SUMMARY:New to Tai Chi & Qigong
DESCRIPTION:Join us in the practice of this gentle art. Suitable for beginners.
URL:https://connectmagazine.org/community-event/new-to-tai-chi-qigong/
LOCATION:Mossman and Daintree\, QLD\, Australia
ATTACH;FMTTYPE=image/jpeg:https://connectmagazine.org/wp-content/uploads/2024/06/dreamstime_s_227077900.jpg
ORGANIZER;CN="Jancy Leigh":MAILTO:gaylehealey1@gmail.com
END:VEVENT
BEGIN:VEVENT
DTSTART;TZID=Australia/Brisbane:20240701T073000
DTEND;TZID=Australia/Brisbane:20240701T083000
DTSTAMP:20260422T003556
CREATED:20240626T064402Z
LAST-MODIFIED:20240626T064402Z
UID:9899-1719819000-1719822600@connectmagazine.org
SUMMARY:Tai Chi and Qigong
DESCRIPTION:Join us in the practice of this gentle art. Suitable for all abilities.
URL:https://connectmagazine.org/community-event/tai-chi-and-qigong/
LOCATION:Mossman and Daintree\, QLD\, Australia
ATTACH;FMTTYPE=image/jpeg:https://connectmagazine.org/wp-content/uploads/2024/06/dreamstime_s_227077900.jpg
ORGANIZER;CN="Jancy Leigh":MAILTO:gaylehealey1@gmail.com
END:VEVENT
BEGIN:VEVENT
DTSTART;TZID=Australia/Brisbane:20240626T163000
DTEND;TZID=Australia/Brisbane:20240626T173000
DTSTAMP:20260422T003556
CREATED:20240626T064753Z
LAST-MODIFIED:20240626T064753Z
UID:9906-1719419400-1719423000@connectmagazine.org
SUMMARY:Tai Chi & Qigong All levels
DESCRIPTION:Join us in the practice of this gentle art. Suitable for all abilities.
URL:https://connectmagazine.org/community-event/tai-chi-qigong-all-levels/
LOCATION:Mossman and Daintree\, QLD\, Australia
ATTACH;FMTTYPE=image/jpeg:https://connectmagazine.org/wp-content/uploads/2024/06/dreamstime_s_227077900.jpg
ORGANIZER;CN="Jancy Leigh":MAILTO:gaylehealey1@gmail.com
END:VEVENT
BEGIN:VEVENT
DTSTART;TZID=Australia/Brisbane:20240626T153000
DTEND;TZID=Australia/Brisbane:20240626T163000
DTSTAMP:20260422T003556
CREATED:20240626T064603Z
LAST-MODIFIED:20240626T064603Z
UID:9904-1719415800-1719419400@connectmagazine.org
SUMMARY:New to Tai Chi & Qigong
DESCRIPTION:Join us in the practice of this gentle art. Suitable for beginners.
URL:https://connectmagazine.org/community-event/new-to-tai-chi-qigong/
LOCATION:Mossman and Daintree\, QLD\, Australia
ATTACH;FMTTYPE=image/jpeg:https://connectmagazine.org/wp-content/uploads/2024/06/dreamstime_s_227077900.jpg
ORGANIZER;CN="Jancy Leigh":MAILTO:gaylehealey1@gmail.com
END:VEVENT
BEGIN:VEVENT
DTSTART;TZID=Australia/Brisbane:20240701T073000
DTEND;TZID=Australia/Brisbane:20240701T083000
DTSTAMP:20260422T003556
CREATED:20240626T064402Z
LAST-MODIFIED:20240626T064402Z
UID:9899-1719819000-1719822600@connectmagazine.org
SUMMARY:Tai Chi and Qigong
DESCRIPTION:Join us in the practice of this gentle art. Suitable for all abilities.
URL:https://connectmagazine.org/community-event/tai-chi-and-qigong/
LOCATION:Mossman and Daintree\, QLD\, Australia
ATTACH;FMTTYPE=image/jpeg:https://connectmagazine.org/wp-content/uploads/2024/06/dreamstime_s_227077900.jpg
ORGANIZER;CN="Jancy Leigh":MAILTO:gaylehealey1@gmail.com
END:VEVENT
BEGIN:VEVENT
DTSTART;TZID=Australia/Brisbane:20240626T163000
DTEND;TZID=Australia/Brisbane:20240626T173000
DTSTAMP:20260422T003556
CREATED:20240626T064753Z
LAST-MODIFIED:20240626T064753Z
UID:9906-1719419400-1719423000@connectmagazine.org
SUMMARY:Tai Chi & Qigong All levels
DESCRIPTION:Join us in the practice of this gentle art. Suitable for all abilities.
URL:https://connectmagazine.org/community-event/tai-chi-qigong-all-levels/
LOCATION:Mossman and Daintree\, QLD\, Australia
ATTACH;FMTTYPE=image/jpeg:https://connectmagazine.org/wp-content/uploads/2024/06/dreamstime_s_227077900.jpg
ORGANIZER;CN="Jancy Leigh":MAILTO:gaylehealey1@gmail.com
END:VEVENT
BEGIN:VEVENT
DTSTART;TZID=Australia/Brisbane:20240626T153000
DTEND;TZID=Australia/Brisbane:20240626T163000
DTSTAMP:20260422T003556
CREATED:20240626T064603Z
LAST-MODIFIED:20240626T064603Z
UID:9904-1719415800-1719419400@connectmagazine.org
SUMMARY:New to Tai Chi & Qigong
DESCRIPTION:Join us in the practice of this gentle art. Suitable for beginners.
URL:https://connectmagazine.org/community-event/new-to-tai-chi-qigong/
LOCATION:Mossman and Daintree\, QLD\, Australia
ATTACH;FMTTYPE=image/jpeg:https://connectmagazine.org/wp-content/uploads/2024/06/dreamstime_s_227077900.jpg
ORGANIZER;CN="Jancy Leigh":MAILTO:gaylehealey1@gmail.com
END:VEVENT
END:VCALENDAR